BEGIN:VCALENDAR
VERSION:2.0
PRODID:-//Tukios.com/
BEGIN:VEVENT
UID:697dd3b6-6cfa-4a56-9c9e-704a618b0a9c@www.fry-smith.com
DTSTAMP:20260420T222647Z
DTSTART:20260425T150000Z
DTEND:20260425T160000Z
SUMMARY:Funeral Service
DESCRIPTION:
URL:https://www.fry-smith.com/obituaries/tammy-tiner
LOCATION:Baker Heights Church of Christ 5382 Texas Avenue  Abilene TX 
	79605
GEO:32.4241663;-99.7947696
END:VEVENT
END:VCALENDAR