BEGIN:VCALENDAR
VERSION:2.0
PRODID:-//Tukios.com/
BEGIN:VEVENT
UID:f107a915-b943-4d14-9752-539a89b1e7bb@www.fry-smith.com
DTSTAMP:20260420T223311Z
DTSTART:20260424T220000Z
DTEND:20260425T000000Z
SUMMARY:Visitation
DESCRIPTION:
URL:https://www.fry-smith.com/obituaries/tammy-tiner
LOCATION:Fry~Smith Funeral Home  502 KENT AVE  Tuscola TX 79562
GEO:32.2088167;-99.7967633
END:VEVENT
END:VCALENDAR